BEGIN:VCALENDAR
VERSION:2.0
PRODID:-//Autism Society Alberta - ECPv6.15.20//NONSGML v1.0//EN
CALSCALE:GREGORIAN
METHOD:PUBLISH
X-ORIGINAL-URL:https://autismalberta.ca
X-WR-CALDESC:Events for Autism Society Alberta
REFRESH-INTERVAL;VALUE=DURATION:PT1H
X-Robots-Tag:noindex
X-PUBLISHED-TTL:PT1H
BEGIN:VTIMEZONE
TZID:America/Denver
BEGIN:DAYLIGHT
TZOFFSETFROM:-0700
TZOFFSETTO:-0600
TZNAME:MDT
DTSTART:20250309T090000
END:DAYLIGHT
BEGIN:STANDARD
TZOFFSETFROM:-0600
TZOFFSETTO:-0700
TZNAME:MST
DTSTART:20251102T080000
END:STANDARD
BEGIN:DAYLIGHT
TZOFFSETFROM:-0700
TZOFFSETTO:-0600
TZNAME:MDT
DTSTART:20260308T090000
END:DAYLIGHT
BEGIN:STANDARD
TZOFFSETFROM:-0600
TZOFFSETTO:-0700
TZNAME:MST
DTSTART:20261101T080000
END:STANDARD
BEGIN:DAYLIGHT
TZOFFSETFROM:-0700
TZOFFSETTO:-0600
TZNAME:MDT
DTSTART:20270314T090000
END:DAYLIGHT
BEGIN:STANDARD
TZOFFSETFROM:-0600
TZOFFSETTO:-0700
TZNAME:MST
DTSTART:20271107T080000
END:STANDARD
END:VTIMEZONE
BEGIN:VEVENT
DTSTART;TZID=America/Denver:20260415T093000
DTEND;TZID=America/Denver:20260415T103000
DTSTAMP:20260423T050030
CREATED:20260302T170813Z
LAST-MODIFIED:20260415T022146Z
UID:41582-1776245400-1776249000@autismalberta.ca
SUMMARY:Autism RMWB Presents - Virtual Caregivers Coffee
DESCRIPTION:March 25th: https://autismsocietyofthermwb.wildapricot.org/event-6471335April 15th: https://autismsocietyofthermwb.wildapricot.org/event-6471347May 20th: https://autismsocietyofthermwb.wildapricot.org/event-6471350June 17th: https://autismsocietyofthermwb.wildapricot.org/event-6471371 \nFor questions or more information\, please contact:Jasmine Lauzon- Community Development CoordinatorPhone: 587-452-9334Email: community@autismrmwb.orgorBarb Fitzpatrick- Disability Resource CoordinatorPhone: 780-215-2459Email: drc@autismrmwb.org
URL:https://autismalberta.ca/calendar/autism-rmwb-presents-virtual-caregivers-coffee-2/
CATEGORIES:The Autism Society of the RMWB
END:VEVENT
END:VCALENDAR