BEGIN:VCALENDAR
VERSION:2.0
PRODID:-//Autism Society Alberta - ECPv6.15.20//NONSGML v1.0//EN
CALSCALE:GREGORIAN
METHOD:PUBLISH
X-WR-CALNAME:Autism Society Alberta
X-ORIGINAL-URL:https://autismalberta.ca
X-WR-CALDESC:Events for Autism Society Alberta
REFRESH-INTERVAL;VALUE=DURATION:PT1H
X-Robots-Tag:noindex
X-PUBLISHED-TTL:PT1H
BEGIN:VTIMEZONE
TZID:America/Denver
BEGIN:DAYLIGHT
TZOFFSETFROM:-0700
TZOFFSETTO:-0600
TZNAME:MDT
DTSTART:20250309T090000
END:DAYLIGHT
BEGIN:STANDARD
TZOFFSETFROM:-0600
TZOFFSETTO:-0700
TZNAME:MST
DTSTART:20251102T080000
END:STANDARD
BEGIN:DAYLIGHT
TZOFFSETFROM:-0700
TZOFFSETTO:-0600
TZNAME:MDT
DTSTART:20260308T090000
END:DAYLIGHT
BEGIN:STANDARD
TZOFFSETFROM:-0600
TZOFFSETTO:-0700
TZNAME:MST
DTSTART:20261101T080000
END:STANDARD
BEGIN:DAYLIGHT
TZOFFSETFROM:-0700
TZOFFSETTO:-0600
TZNAME:MDT
DTSTART:20270314T090000
END:DAYLIGHT
BEGIN:STANDARD
TZOFFSETFROM:-0600
TZOFFSETTO:-0700
TZNAME:MST
DTSTART:20271107T080000
END:STANDARD
END:VTIMEZONE
BEGIN:VEVENT
DTSTART;TZID=America/Denver:20260417T090000
DTEND;TZID=America/Denver:20260417T120000
DTSTAMP:20260423T050812
CREATED:20260302T170813Z
LAST-MODIFIED:20260417T022343Z
UID:41583-1776416400-1776427200@autismalberta.ca
SUMMARY:Autism RMWB Presents - Unmasking the Lived Experience of Autistic Individuals (IN PERSON)
DESCRIPTION:Presented by: Lori-Ann R. Sacrey\, PhD Behavioural Neuroscience \nThis presentation will take a deep-dive into the lived experience of autistic individuals\, including: \n1. How the diagnostic criteria appear in real life\, \n2. Ways challenges may be masked or accommodated to navigate society\, \n3. Historical overview of the diagnostic criteria and how it has changed with research findings\, \n4. Understanding of the female and masked presentations\, and  \n5. Neurological areas that are unique to the autistic neurotype.  \nhttps://autismsocietyofthermwb.wildapricot.org/event-6564642
URL:https://autismalberta.ca/calendar/autism-rmwb-presents-unmasking-the-lived-experience-of-autistic-individuals-in-person/
CATEGORIES:The Autism Society of the RMWB
END:VEVENT
BEGIN:VEVENT
DTSTART;TZID=America/Denver:20260417T173000
DTEND;TZID=America/Denver:20260417T203000
DTSTAMP:20260423T050812
CREATED:20260302T170814Z
LAST-MODIFIED:20260417T022343Z
UID:41584-1776447000-1776457800@autismalberta.ca
SUMMARY:Autism RMWB Presents - Unmasking the Lived Experience of Autistic Individuals (IN PERSON)
DESCRIPTION:Presented by: Lori-Ann R. Sacrey\, PhD Behavioural Neuroscience \nThis presentation will take a deep-dive into the lived experience of autistic individuals\, including: \n1. How the diagnostic criteria appear in real life\, \n2. Ways challenges may be masked or accommodated to navigate society\, \n3. Historical overview of the diagnostic criteria and how it has changed with research findings\, \n4. Understanding of the female and masked presentations\, and  \n5. Neurological areas that are unique to the autistic neurotype.  \nhttps://autismsocietyofthermwb.wildapricot.org/event-6564642
URL:https://autismalberta.ca/calendar/autism-rmwb-presents-unmasking-the-lived-experience-of-autistic-individuals-in-person-2/
CATEGORIES:The Autism Society of the RMWB
END:VEVENT
END:VCALENDAR