BEGIN:VCALENDAR
VERSION:2.0
PRODID:-//Autism Society Alberta - ECPv6.15.20//NONSGML v1.0//EN
CALSCALE:GREGORIAN
METHOD:PUBLISH
X-ORIGINAL-URL:https://autismalberta.ca
X-WR-CALDESC:Events for Autism Society Alberta
REFRESH-INTERVAL;VALUE=DURATION:PT1H
X-Robots-Tag:noindex
X-PUBLISHED-TTL:PT1H
BEGIN:VTIMEZONE
TZID:America/Denver
BEGIN:DAYLIGHT
TZOFFSETFROM:-0700
TZOFFSETTO:-0600
TZNAME:MDT
DTSTART:20250309T090000
END:DAYLIGHT
BEGIN:STANDARD
TZOFFSETFROM:-0600
TZOFFSETTO:-0700
TZNAME:MST
DTSTART:20251102T080000
END:STANDARD
BEGIN:DAYLIGHT
TZOFFSETFROM:-0700
TZOFFSETTO:-0600
TZNAME:MDT
DTSTART:20260308T090000
END:DAYLIGHT
BEGIN:STANDARD
TZOFFSETFROM:-0600
TZOFFSETTO:-0700
TZNAME:MST
DTSTART:20261101T080000
END:STANDARD
BEGIN:DAYLIGHT
TZOFFSETFROM:-0700
TZOFFSETTO:-0600
TZNAME:MDT
DTSTART:20270314T090000
END:DAYLIGHT
BEGIN:STANDARD
TZOFFSETFROM:-0600
TZOFFSETTO:-0700
TZNAME:MST
DTSTART:20271107T080000
END:STANDARD
END:VTIMEZONE
BEGIN:VEVENT
DTSTART;TZID=America/Denver:20260514T190000
DTEND;TZID=America/Denver:20260514T203000
DTSTAMP:20260423T064004
CREATED:20260403T190627Z
LAST-MODIFIED:20260422T200628Z
UID:42133-1778785200-1778790600@autismalberta.ca
SUMMARY:Autism Edmonton Presents - Recognizing Pathological Demand Avoidance (PDA)
DESCRIPTION:This session will explain PDA and how it can be identified\, both formally and informally. \nAbout \nMany people have heard of the autism profile called Pathological Demand Avoidance (PDA)\, but don’t know what it means; others have never heard of this before! This session will explain PDA and how it can be identified\, both formally and informally. We will discuss whether or not it is important to identify PDA\, and will begin to look at strategies to support (although we will go more in depth regarding strategies in future sessions!) \nFind out more and register HERE.
URL:https://autismalberta.ca/calendar/autism-edmonton-presents-recognizing-pathological-demand-avoidance-pda/
CATEGORIES:Autism Edmonton
END:VEVENT
END:VCALENDAR