BEGIN:VCALENDAR
VERSION:2.0
PRODID:-//Autism Society Alberta - ECPv6.15.20//NONSGML v1.0//EN
CALSCALE:GREGORIAN
METHOD:PUBLISH
X-ORIGINAL-URL:https://autismalberta.ca
X-WR-CALDESC:Events for Autism Society Alberta
REFRESH-INTERVAL;VALUE=DURATION:PT1H
X-Robots-Tag:noindex
X-PUBLISHED-TTL:PT1H
BEGIN:VTIMEZONE
TZID:America/Denver
BEGIN:DAYLIGHT
TZOFFSETFROM:-0700
TZOFFSETTO:-0600
TZNAME:MDT
DTSTART:20250309T090000
END:DAYLIGHT
BEGIN:STANDARD
TZOFFSETFROM:-0600
TZOFFSETTO:-0700
TZNAME:MST
DTSTART:20251102T080000
END:STANDARD
BEGIN:DAYLIGHT
TZOFFSETFROM:-0700
TZOFFSETTO:-0600
TZNAME:MDT
DTSTART:20260308T090000
END:DAYLIGHT
BEGIN:STANDARD
TZOFFSETFROM:-0600
TZOFFSETTO:-0700
TZNAME:MST
DTSTART:20261101T080000
END:STANDARD
BEGIN:DAYLIGHT
TZOFFSETFROM:-0700
TZOFFSETTO:-0600
TZNAME:MDT
DTSTART:20270314T090000
END:DAYLIGHT
BEGIN:STANDARD
TZOFFSETFROM:-0600
TZOFFSETTO:-0700
TZNAME:MST
DTSTART:20271107T080000
END:STANDARD
END:VTIMEZONE
BEGIN:VEVENT
DTSTART;TZID=America/Denver:20260526T120000
DTEND;TZID=America/Denver:20260526T130000
DTSTAMP:20260423T064004
CREATED:20260403T190627Z
LAST-MODIFIED:20260422T200628Z
UID:42134-1779796800-1779800400@autismalberta.ca
SUMMARY:Autism Edmonton Presents - The Role of Stigma and Trauma in Shaping Autistic Experiences
DESCRIPTION:This presentation will include an overview of research on the impacts of trauma and stigma on autistic people. \nAbout \nThis learning session is brought to you by Autism Edmonton and Drexel University with support from the Sinneave Family Foundation. \nFind out more and register HERE.
URL:https://autismalberta.ca/calendar/autism-edmonton-presents-the-role-of-stigma-and-trauma-in-shaping-autistic-experiences/
CATEGORIES:Autism Edmonton
END:VEVENT
END:VCALENDAR