BEGIN:VCALENDAR
VERSION:2.0
PRODID:-//Autism Society Alberta - ECPv6.15.20//NONSGML v1.0//EN
CALSCALE:GREGORIAN
METHOD:PUBLISH
X-WR-CALNAME:Autism Society Alberta
X-ORIGINAL-URL:https://autismalberta.ca
X-WR-CALDESC:Events for Autism Society Alberta
REFRESH-INTERVAL;VALUE=DURATION:PT1H
X-Robots-Tag:noindex
X-PUBLISHED-TTL:PT1H
BEGIN:VTIMEZONE
TZID:America/Denver
BEGIN:DAYLIGHT
TZOFFSETFROM:-0700
TZOFFSETTO:-0600
TZNAME:MDT
DTSTART:20250309T090000
END:DAYLIGHT
BEGIN:STANDARD
TZOFFSETFROM:-0600
TZOFFSETTO:-0700
TZNAME:MST
DTSTART:20251102T080000
END:STANDARD
BEGIN:DAYLIGHT
TZOFFSETFROM:-0700
TZOFFSETTO:-0600
TZNAME:MDT
DTSTART:20260308T090000
END:DAYLIGHT
BEGIN:STANDARD
TZOFFSETFROM:-0600
TZOFFSETTO:-0700
TZNAME:MST
DTSTART:20261101T080000
END:STANDARD
BEGIN:DAYLIGHT
TZOFFSETFROM:-0700
TZOFFSETTO:-0600
TZNAME:MDT
DTSTART:20270314T090000
END:DAYLIGHT
BEGIN:STANDARD
TZOFFSETFROM:-0600
TZOFFSETTO:-0700
TZNAME:MST
DTSTART:20271107T080000
END:STANDARD
END:VTIMEZONE
BEGIN:VEVENT
DTSTART;TZID=America/Denver:20260618T120000
DTEND;TZID=America/Denver:20260618T130000
DTSTAMP:20260423T081806
CREATED:20251224T154645Z
LAST-MODIFIED:20260422T200658Z
UID:40783-1781784000-1781787600@autismalberta.ca
SUMMARY:Autism Edmonton Presents - Practical Solutions (Caregivers Alberta)
DESCRIPTION:Get ready to dive into practical solutions and support for caregivers with Caregivers Alberta – it’s going to be insightful and empowering! \nThis session focuses on proactive strategies to support employed caregivers in the workplace. It highlights ways to continue the conversation through initiatives like Employee Resource Groups (ERGs)\, caregiver-focused programs\, and peer-support groups. \nFind out more and register HERE.
URL:https://autismalberta.ca/calendar/autism-edmonton-presents-practical-solutions-caregivers-alberta/
CATEGORIES:Autism Edmonton
END:VEVENT
BEGIN:VEVENT
DTSTART;TZID=America/Denver:20260618T190000
DTEND;TZID=America/Denver:20260618T210000
DTSTAMP:20260423T081806
CREATED:20260302T165545Z
LAST-MODIFIED:20260422T192204Z
UID:41516-1781809200-1781816400@autismalberta.ca
SUMMARY:Autism Calgary's AUTISTIC SUPPORT NETWORK (ASN)
DESCRIPTION:ASN meets in-person on the first Thursday of the month\, from 5:30-7:30pm\, at the Autism Calgary Office (3639 26 St\, NE\, Suite A\, Calgary AB). And virtually on the on the 3rd Thursday of every month\, running from 7-9pm. \nThis support group is for adults who suspect or are officially diagnosed as having autism\, and who are able to independently communicate and participate in group conversations. Our monthly meetings follow a roundtable discussion format and offer a welcoming space to exchange insights\, share lived experiences\, and build community. We look forward to having you join us! \nFind out more and register HERE.
URL:https://autismalberta.ca/calendar/autism-calgarys-autistic-support-network-asn-50/
CATEGORIES:Autism Calgary
END:VEVENT
END:VCALENDAR