BEGIN:VCALENDAR
VERSION:2.0
PRODID:-//Autism Society Alberta - ECPv6.15.20//NONSGML v1.0//EN
CALSCALE:GREGORIAN
METHOD:PUBLISH
X-WR-CALNAME:Autism Society Alberta
X-ORIGINAL-URL:https://autismalberta.ca
X-WR-CALDESC:Events for Autism Society Alberta
REFRESH-INTERVAL;VALUE=DURATION:PT1H
X-Robots-Tag:noindex
X-PUBLISHED-TTL:PT1H
BEGIN:VTIMEZONE
TZID:America/Denver
BEGIN:DAYLIGHT
TZOFFSETFROM:-0700
TZOFFSETTO:-0600
TZNAME:MDT
DTSTART:20270314T090000
END:DAYLIGHT
BEGIN:STANDARD
TZOFFSETFROM:-0600
TZOFFSETTO:-0700
TZNAME:MST
DTSTART:20271107T080000
END:STANDARD
BEGIN:DAYLIGHT
TZOFFSETFROM:-0700
TZOFFSETTO:-0600
TZNAME:MDT
DTSTART:20280312T090000
END:DAYLIGHT
BEGIN:STANDARD
TZOFFSETFROM:-0600
TZOFFSETTO:-0700
TZNAME:MST
DTSTART:20281105T080000
END:STANDARD
BEGIN:DAYLIGHT
TZOFFSETFROM:-0700
TZOFFSETTO:-0600
TZNAME:MDT
DTSTART:20290311T090000
END:DAYLIGHT
BEGIN:STANDARD
TZOFFSETFROM:-0600
TZOFFSETTO:-0700
TZNAME:MST
DTSTART:20291104T080000
END:STANDARD
END:VTIMEZONE
BEGIN:VEVENT
DTSTART;TZID=America/Denver:20280411T190000
DTEND;TZID=America/Denver:20280411T210000
DTSTAMP:20260424T205409
CREATED:20260412T192636Z
LAST-MODIFIED:20260424T193901Z
UID:42228-1839092400-1839099600@autismalberta.ca
SUMMARY:Autism Calgary's - FAN (Father's Autism Network) Support Group
DESCRIPTION:Fathers’ Autism Network (FAN) is a support meet-up for Fathers of individuals Autism Spectrum & Fathers on the Spectrum themselves. Takes place on the Second Tuesday of the month\, 7pm-9pm. \nAll Fathers who lives impacted by autism to join us at our next scheduled meeting\, come and take a break connecting fathers a supportive evening out! Or in\, as our meetings have a hybrid option available! The meetings are often casual conversations\, sharing your experiences or hearing the thoughts of others who understand your challenges. When we do have presenters or speakers joining we’ll let you know in advance. \nFind out more and register HERE.
URL:https://autismalberta.ca/calendar/autism-calgarys-fan-fathers-autism-network-support-group-23/
CATEGORIES:Autism Calgary
END:VEVENT
END:VCALENDAR