BEGIN:VCALENDAR
VERSION:2.0
PRODID:-//Autism Society Alberta - ECPv6.15.20//NONSGML v1.0//EN
CALSCALE:GREGORIAN
METHOD:PUBLISH
X-ORIGINAL-URL:https://autismalberta.ca
X-WR-CALDESC:Events for Autism Society Alberta
REFRESH-INTERVAL;VALUE=DURATION:PT1H
X-Robots-Tag:noindex
X-PUBLISHED-TTL:PT1H
BEGIN:VTIMEZONE
TZID:America/Denver
BEGIN:DAYLIGHT
TZOFFSETFROM:-0700
TZOFFSETTO:-0600
TZNAME:MDT
DTSTART:20250309T090000
END:DAYLIGHT
BEGIN:STANDARD
TZOFFSETFROM:-0600
TZOFFSETTO:-0700
TZNAME:MST
DTSTART:20251102T080000
END:STANDARD
BEGIN:DAYLIGHT
TZOFFSETFROM:-0700
TZOFFSETTO:-0600
TZNAME:MDT
DTSTART:20260308T090000
END:DAYLIGHT
BEGIN:STANDARD
TZOFFSETFROM:-0600
TZOFFSETTO:-0700
TZNAME:MST
DTSTART:20261101T080000
END:STANDARD
BEGIN:DAYLIGHT
TZOFFSETFROM:-0700
TZOFFSETTO:-0600
TZNAME:MDT
DTSTART:20270314T090000
END:DAYLIGHT
BEGIN:STANDARD
TZOFFSETFROM:-0600
TZOFFSETTO:-0700
TZNAME:MST
DTSTART:20271107T080000
END:STANDARD
END:VTIMEZONE
BEGIN:VEVENT
DTSTART;TZID=America/Denver:20260323T180000
DTEND;TZID=America/Denver:20260323T210000
DTSTAMP:20260423T051032
CREATED:20260127T160702Z
LAST-MODIFIED:20260323T182355Z
UID:41150-1774288800-1774299600@autismalberta.ca
SUMMARY:Gateway Presents - FMS Admin: Abuse Prevention and Response Protocol
DESCRIPTION:A workshop that explores ways to reduce the risk of abuse and how to handle suspicions of abuse (for Family Managed Services Administrators). Find out more and register HERE.
URL:https://autismalberta.ca/calendar/gateway-presents-fms-admin-abuse-prevention-and-response-protocol-2/
CATEGORIES:Community Events & Presentations
END:VEVENT
BEGIN:VEVENT
DTSTART;TZID=America/Denver:20260325T093000
DTEND;TZID=America/Denver:20260325T103000
DTSTAMP:20260423T051032
CREATED:20260302T170813Z
LAST-MODIFIED:20260325T015217Z
UID:41580-1774431000-1774434600@autismalberta.ca
SUMMARY:Autism RMWB Presents - Virtual Caregivers Coffee
DESCRIPTION:March 25th: https://autismsocietyofthermwb.wildapricot.org/event-6471335April 15th: https://autismsocietyofthermwb.wildapricot.org/event-6471347May 20th: https://autismsocietyofthermwb.wildapricot.org/event-6471350June 17th: https://autismsocietyofthermwb.wildapricot.org/event-6471371 \nFor questions or more information\, please contact:Jasmine Lauzon- Community Development CoordinatorPhone: 587-452-9334Email: community@autismrmwb.orgorBarb Fitzpatrick- Disability Resource CoordinatorPhone: 780-215-2459Email: drc@autismrmwb.org
URL:https://autismalberta.ca/calendar/autism-rmwb-presents-virtual-caregivers-coffee/
CATEGORIES:The Autism Society of the RMWB
END:VEVENT
BEGIN:VEVENT
DTSTART;TZID=America/Denver:20260326T190000
DTEND;TZID=America/Denver:20260326T200000
DTSTAMP:20260423T051032
CREATED:20260127T162139Z
LAST-MODIFIED:20260326T175108Z
UID:41154-1774551600-1774555200@autismalberta.ca
SUMMARY:Autism Edmonton Presents - Terri Robson - Autistic Journeys: Voices & Perspectives
DESCRIPTION:With incredible determination she engaged in various projects to raise awareness and remove barriers for individuals with Autism. \nThis learning session is part of Autism Edmonton’s “Autistic Journeys: Voices and Perspectives” series which is brought you with support from the Sinneave Family Foundation. \nFind out more and register HERE.
URL:https://autismalberta.ca/calendar/autism-edmonton-presents-terri-robson-autistic-journeys-voices-perspectives/
CATEGORIES:Autism Edmonton
END:VEVENT
BEGIN:VEVENT
DTSTART;TZID=America/Denver:20260326T190000
DTEND;TZID=America/Denver:20260326T210000
DTSTAMP:20260423T051032
CREATED:20260302T165542Z
LAST-MODIFIED:20260326T182313Z
UID:41509-1774551600-1774558800@autismalberta.ca
SUMMARY:Autism Calgary's Biomedical Group
DESCRIPTION:The Biomedical Group meets the last Thursday of the month\, 7-9 pm. The meetings alternate between virtual and in-person. \nThis group is for anyone interested in complementary\, alternative\, or medical interventions to improve their health\, and their autistic loved ones. A sample of the past topics discussed in this group are: special diets\, sensory integration therapies\, and biofeedback\, among others. This group may host presentations\, or have round table discussions. \nJoin a virtual meeting here: https://meet.google.com/ens-qdcu-bsj \nTo attend an in-person session join us at our office\, 3639 26 St\, NE\, Suite A\, Calgary AB. \nAutism Calgary does not support\, endorse or recommend any method\, treatment\, product\, remedial center\, program or person for people with autism or autism related conditions. It does\, however\, endeavour to inform because it believes in the right to have access to the information available and to make individual choices. \nThe information on this page or discussed in our group is NOT intended as a substitute for the advice provided by your physician or other healthcare professional\, or for diagnosing or treating a health problem or disease\, or prescribing medication\, therapies\, diets or other treatment. \nFor more information contact laura@autismcalgary.com
URL:https://autismalberta.ca/calendar/autism-calgarys-biomedical-group-63/
CATEGORIES:Autism Calgary
END:VEVENT
BEGIN:VEVENT
DTSTART;TZID=America/Denver:20260329T100000
DTEND;TZID=America/Denver:20260329T180000
DTSTAMP:20260423T051032
CREATED:20260302T170813Z
LAST-MODIFIED:20260329T015325Z
UID:41581-1774778400-1774807200@autismalberta.ca
SUMMARY:Autism RMWB Presents - Autism Awareness/Acceptance Day 2026 Family Fun Day (IN PERSON)
DESCRIPTION:Come out and help us celebrate Autism Awareness and Acceptance Day on March 29th\, 2026\, from 10 am to 6 pm. Swimming at the Syncrude Aquatics Center\, skating\, bouncy castles\, face painting\, and a giant Sensory room will be there. All entries are by donation!Remember to stop by our tables to learn more about who we are and what we are doing in the community to help raise awareness and acceptance for our neurodiverse community. \nContact the Autism Society of the RMWB if you would like more information – 587-452-9334For sensory times for the field house\, please book here: \nAutism Awareness/Acceptance Day – Member Event 10:00-11:00amhttps://autismsocietyofthermwb.wildapricot.org/event-6579538 \nAutism Awareness/Acceptance Day – Member Event 5:00-6:00pmhttps://autismsocietyofthermwb.wildapricot.org/event-6579550
URL:https://autismalberta.ca/calendar/autism-rmwb-presents-autism-awareness-acceptance-day-2026-family-fun-day-in-person/
CATEGORIES:The Autism Society of the RMWB
END:VEVENT
BEGIN:VEVENT
DTSTART;TZID=America/Denver:20260331T110000
DTEND;TZID=America/Denver:20260331T120000
DTSTAMP:20260423T051032
CREATED:20260315T165123Z
LAST-MODIFIED:20260330T180558Z
UID:41807-1774954800-1774958400@autismalberta.ca
SUMMARY:Autism Edmonton & Aide Canada Present - The Female Autism Gap: Why Diagnostic Tools Are Failing Women
DESCRIPTION:Autism research and diagnostic tools were built around a male model\, and women have paid the price. For decades\, autistic girls and women have been misdiagnosed\, overlooked\, or told their struggles were anxiety\, depression\, personality disorders\, or “just stress.” This powerful panel brings together three leading voices who are challenging the science\, the systems\, and the assumptions that have left so many women unseen. \nFind out more and register HERE.
URL:https://autismalberta.ca/calendar/autism-edmonton-aide-canada-present-the-female-autism-gap-why-diagnostic-tools-are-failing-women/
CATEGORIES:Autism Edmonton
END:VEVENT
END:VCALENDAR