BEGIN:VCALENDAR
VERSION:2.0
PRODID:-//Autism Society Alberta - ECPv6.15.20//NONSGML v1.0//EN
CALSCALE:GREGORIAN
METHOD:PUBLISH
X-WR-CALNAME:Autism Society Alberta
X-ORIGINAL-URL:https://autismalberta.ca
X-WR-CALDESC:Events for Autism Society Alberta
REFRESH-INTERVAL;VALUE=DURATION:PT1H
X-Robots-Tag:noindex
X-PUBLISHED-TTL:PT1H
BEGIN:VTIMEZONE
TZID:America/Denver
BEGIN:DAYLIGHT
TZOFFSETFROM:-0700
TZOFFSETTO:-0600
TZNAME:MDT
DTSTART:20250309T090000
END:DAYLIGHT
BEGIN:STANDARD
TZOFFSETFROM:-0600
TZOFFSETTO:-0700
TZNAME:MST
DTSTART:20251102T080000
END:STANDARD
BEGIN:DAYLIGHT
TZOFFSETFROM:-0700
TZOFFSETTO:-0600
TZNAME:MDT
DTSTART:20260308T090000
END:DAYLIGHT
BEGIN:STANDARD
TZOFFSETFROM:-0600
TZOFFSETTO:-0700
TZNAME:MST
DTSTART:20261101T080000
END:STANDARD
BEGIN:DAYLIGHT
TZOFFSETFROM:-0700
TZOFFSETTO:-0600
TZNAME:MDT
DTSTART:20270314T090000
END:DAYLIGHT
BEGIN:STANDARD
TZOFFSETFROM:-0600
TZOFFSETTO:-0700
TZNAME:MST
DTSTART:20271107T080000
END:STANDARD
END:VTIMEZONE
BEGIN:VEVENT
DTSTART;TZID=America/Denver:20260512T190000
DTEND;TZID=America/Denver:20260512T210000
DTSTAMP:20260423T050811
CREATED:20251202T153712Z
LAST-MODIFIED:20260422T195103Z
UID:40501-1778612400-1778619600@autismalberta.ca
SUMMARY:Gateway Presents - Families Forward (Under 18)
DESCRIPTION:Monthly meeting for families with children under 18 with disabilities.Topics vary each month.For more information and to register – https://www.eventbrite.ca/e/families-forward-under-18-tickets-255535783407?utm-campaign=social&utm-content=attendeeshare&utm-medium=discovery&utm-term=listing&utm-source=cp&aff=escb \nAbout this event\nWhere families can connect with other families\, learn from one another\, and explore issues that are important (such as schooling\, leadership\, and community and government support).
URL:https://autismalberta.ca/calendar/gateway-presents-families-forward-under-18-41/
CATEGORIES:Community Events & Presentations
END:VEVENT
BEGIN:VEVENT
DTSTART;TZID=America/Denver:20260512T190000
DTEND;TZID=America/Denver:20260512T210000
DTSTAMP:20260423T050811
CREATED:20260302T165543Z
LAST-MODIFIED:20260422T192203Z
UID:41512-1778612400-1778619600@autismalberta.ca
SUMMARY:Autism Calgary's - FAN (Father's Autism Network) Support Group
DESCRIPTION:Fathers’ Autism Network (FAN) is a support meet-up for Fathers of individuals Autism Spectrum & Fathers on the Spectrum themselves. Takes place on the Second Tuesday of the month\, 7pm-9pm. \nAll Fathers who lives impacted by autism to join us at our next scheduled meeting\, come and take a break connecting fathers a supportive evening out! Or in\, as our meetings have a hybrid option available! The meetings are often casual conversations\, sharing your experiences or hearing the thoughts of others who understand your challenges. When we do have presenters or speakers joining we’ll let you know in advance. \nFind out more and register HERE.
URL:https://autismalberta.ca/calendar/autism-calgarys-fan-fathers-autism-network-support-group-48/
CATEGORIES:Autism Calgary
END:VEVENT
BEGIN:VEVENT
DTSTART;TZID=America/Denver:20260514T190000
DTEND;TZID=America/Denver:20260514T203000
DTSTAMP:20260423T050811
CREATED:20260403T190627Z
LAST-MODIFIED:20260422T200628Z
UID:42133-1778785200-1778790600@autismalberta.ca
SUMMARY:Autism Edmonton Presents - Recognizing Pathological Demand Avoidance (PDA)
DESCRIPTION:This session will explain PDA and how it can be identified\, both formally and informally. \nAbout \nMany people have heard of the autism profile called Pathological Demand Avoidance (PDA)\, but don’t know what it means; others have never heard of this before! This session will explain PDA and how it can be identified\, both formally and informally. We will discuss whether or not it is important to identify PDA\, and will begin to look at strategies to support (although we will go more in depth regarding strategies in future sessions!) \nFind out more and register HERE.
URL:https://autismalberta.ca/calendar/autism-edmonton-presents-recognizing-pathological-demand-avoidance-pda/
CATEGORIES:Autism Edmonton
END:VEVENT
BEGIN:VEVENT
DTSTART;TZID=America/Denver:20260520T093000
DTEND;TZID=America/Denver:20260520T103000
DTSTAMP:20260423T050811
CREATED:20260302T170814Z
LAST-MODIFIED:20260423T023600Z
UID:41585-1779269400-1779273000@autismalberta.ca
SUMMARY:Autism RMWB Presents - Virtual Caregivers Coffee
DESCRIPTION:March 25th: https://autismsocietyofthermwb.wildapricot.org/event-6471335April 15th: https://autismsocietyofthermwb.wildapricot.org/event-6471347May 20th: https://autismsocietyofthermwb.wildapricot.org/event-6471350June 17th: https://autismsocietyofthermwb.wildapricot.org/event-6471371 \nFor questions or more information\, please contact:Jasmine Lauzon- Community Development CoordinatorPhone: 587-452-9334Email: community@autismrmwb.orgorBarb Fitzpatrick- Disability Resource CoordinatorPhone: 780-215-2459Email: drc@autismrmwb.org
URL:https://autismalberta.ca/calendar/autism-rmwb-presents-virtual-caregivers-coffee-3/
CATEGORIES:The Autism Society of the RMWB
END:VEVENT
BEGIN:VEVENT
DTSTART;TZID=America/Denver:20260521T120000
DTEND;TZID=America/Denver:20260521T130000
DTSTAMP:20260423T050811
CREATED:20260302T165919Z
LAST-MODIFIED:20260422T200628Z
UID:41578-1779364800-1779368400@autismalberta.ca
SUMMARY:Autism Edmonton Presents - It Takes a Village to Raise a Child
DESCRIPTION:Explore an intersectional journey of raising a Black Autistic child in today’s Alberta landscape by connecting our past to our present \nThe proverb “It takes a village to raise a child” conveys a truth; that caring for children is a shared responsibility amongst many. \nA village is where multiple people\, each in their own capacity\, provide connection & support. \nIt is these connections that confer protection and buffer the impact of adversity. \nFind out more and register HERE.
URL:https://autismalberta.ca/calendar/autism-edmonton-presents-it-takes-a-village-to-raise-a-child/
CATEGORIES:Autism Edmonton
END:VEVENT
BEGIN:VEVENT
DTSTART;TZID=America/Denver:20260521T180000
DTEND;TZID=America/Denver:20260521T210000
DTSTAMP:20260423T050811
CREATED:20260326T182059Z
LAST-MODIFIED:20260422T195103Z
UID:42043-1779386400-1779397200@autismalberta.ca
SUMMARY:Gateway Presents - FMS Admin: Abuse Prevention and Response Protocol
DESCRIPTION:A workshop that explores ways to reduce the risk of abuse and how to handle suspicions of abuse (for Family Managed Services Administrators) \n \nFind out more and register HERE.
URL:https://autismalberta.ca/calendar/gateway-presents-fms-admin-abuse-prevention-and-response-protocol-3/
CATEGORIES:Community Events & Presentations
END:VEVENT
BEGIN:VEVENT
DTSTART;TZID=America/Denver:20260521T190000
DTEND;TZID=America/Denver:20260521T210000
DTSTAMP:20260423T050811
CREATED:20260302T165544Z
LAST-MODIFIED:20260422T192203Z
UID:41513-1779390000-1779397200@autismalberta.ca
SUMMARY:Autism Calgary's AUTISTIC SUPPORT NETWORK (ASN)
DESCRIPTION:ASN meets in-person on the first Thursday of the month\, from 5:30-7:30pm\, at the Autism Calgary Office (3639 26 St\, NE\, Suite A\, Calgary AB). And virtually on the on the 3rd Thursday of every month\, running from 7-9pm. \nThis support group is for adults who suspect or are officially diagnosed as having autism\, and who are able to independently communicate and participate in group conversations. Our monthly meetings follow a roundtable discussion format and offer a welcoming space to exchange insights\, share lived experiences\, and build community. We look forward to having you join us! \nFind out more and register HERE.
URL:https://autismalberta.ca/calendar/autism-calgarys-autistic-support-network-asn-49/
CATEGORIES:Autism Calgary
END:VEVENT
BEGIN:VEVENT
DTSTART;TZID=America/Denver:20260526T120000
DTEND;TZID=America/Denver:20260526T130000
DTSTAMP:20260423T050811
CREATED:20260403T190627Z
LAST-MODIFIED:20260422T200628Z
UID:42134-1779796800-1779800400@autismalberta.ca
SUMMARY:Autism Edmonton Presents - The Role of Stigma and Trauma in Shaping Autistic Experiences
DESCRIPTION:This presentation will include an overview of research on the impacts of trauma and stigma on autistic people. \nAbout \nThis learning session is brought to you by Autism Edmonton and Drexel University with support from the Sinneave Family Foundation. \nFind out more and register HERE.
URL:https://autismalberta.ca/calendar/autism-edmonton-presents-the-role-of-stigma-and-trauma-in-shaping-autistic-experiences/
CATEGORIES:Autism Edmonton
END:VEVENT
BEGIN:VEVENT
DTSTART;TZID=America/Denver:20260527T120000
DTEND;TZID=America/Denver:20260527T130000
DTSTAMP:20260423T050811
CREATED:20260418T195524Z
LAST-MODIFIED:20260422T200628Z
UID:42304-1779883200-1779886800@autismalberta.ca
SUMMARY:Autism Edmonton Presents - The Invisible Labour of Autistic Masking
DESCRIPTION:Autistic masking and communication through the lens of Communication Work\, a health communication concept. \nFind out more and register HERE.
URL:https://autismalberta.ca/calendar/autism-edmonton-presents-the-invisible-labour-of-autistic-masking/
CATEGORIES:Autism Edmonton
END:VEVENT
BEGIN:VEVENT
DTSTART;TZID=America/Denver:20260528T190000
DTEND;TZID=America/Denver:20260528T210000
DTSTAMP:20260423T050811
CREATED:20260302T165544Z
LAST-MODIFIED:20260422T192203Z
UID:41514-1779994800-1780002000@autismalberta.ca
SUMMARY:Autism Calgary's Biomedical Group
DESCRIPTION:The Biomedical Group meets the last Thursday of the month\, 7-9 pm. The meetings alternate between virtual and in-person. \nThis group is for anyone interested in complementary\, alternative\, or medical interventions to improve their health\, and their autistic loved ones. A sample of the past topics discussed in this group are: special diets\, sensory integration therapies\, and biofeedback\, among others. This group may host presentations\, or have round table discussions. \nJoin a virtual meeting here: https://meet.google.com/ens-qdcu-bsj \nTo attend an in-person session join us at our office\, 3639 26 St\, NE\, Suite A\, Calgary AB. \nAutism Calgary does not support\, endorse or recommend any method\, treatment\, product\, remedial center\, program or person for people with autism or autism related conditions. It does\, however\, endeavour to inform because it believes in the right to have access to the information available and to make individual choices. \nThe information on this page or discussed in our group is NOT intended as a substitute for the advice provided by your physician or other healthcare professional\, or for diagnosing or treating a health problem or disease\, or prescribing medication\, therapies\, diets or other treatment. \nFor more information contact laura@autismcalgary.com
URL:https://autismalberta.ca/calendar/autism-calgarys-biomedical-group-64/
CATEGORIES:Autism Calgary
END:VEVENT
END:VCALENDAR